BEGIN:VCALENDAR
VERSION:2.0
PRODID:-//Alistair Vera Taekwon-Do - ECPv6.15.20//NONSGML v1.0//EN
CALSCALE:GREGORIAN
METHOD:PUBLISH
X-ORIGINAL-URL:https://alistairveratkd.com
X-WR-CALDESC:Events for Alistair Vera Taekwon-Do
REFRESH-INTERVAL;VALUE=DURATION:PT1H
X-Robots-Tag:noindex
X-PUBLISHED-TTL:PT1H
BEGIN:VTIMEZONE
TZID:UTC
BEGIN:STANDARD
TZOFFSETFROM:+0000
TZOFFSETTO:+0000
TZNAME:UTC
DTSTART:20250101T000000
END:STANDARD
END:VTIMEZONE
BEGIN:VEVENT
DTSTART;VALUE=DATE:20260927
DTEND;VALUE=DATE:20260928
DTSTAMP:20260422T202439
CREATED:20251122T143326Z
LAST-MODIFIED:20251122T143326Z
UID:718-1790467200-1790553599@alistairveratkd.com
SUMMARY:UK Championship
DESCRIPTION:UK Championship. This is a UKTC Taekwon-Do Champions League Event for Juniors & Adults \nDATE: Sunday 27th September 2026 \nVENUE: Wishaw Sports Centre\, Alexander Street\, Wishaw\, ML2 0HQ \nActive Tigers (Green\, Blue\, Red & Black) & White Belt to Green Tags (All Ages): Registration 9.30am Competition 10.30-1.00pm \nGreen Belt to Black Tags (All Ages): Registration 1.00pm Height/Weight Check 1.30pm Competition 2.00-5.00pm \nBlack Belts (All Ages): Registration 5.00 pm Height/Weight Check 5.15pm Competition 5.30-7.00pm \nThis competition is a UKTC Champions League Event and will raise funds for UKTC members representing the UK National \nTeams. It is open to all Active Tigers (Green\, Blue Stripe\, Red Stripe & Black Stripe) and all UKTC Junior’s (5-17 years) and \nAdults who hold the rank of 10th Kup (White Belt) and above. Competitors will be placed in divisions dependent on height\, \nweight\, and rank. There will be three categories to enter – Patterns\, Sparring\, and Special Technique (Flying High Kick). \nOnly UKTC brand Safety Equipment (Gloves\, Boots\, Shin & Head Guards) will be allowed in sparring events \nAccess to the competition hall will be from 9.30am. A stall selling sparring equipment\, clothing\, & various training aids will be \nopen from 10am-5.30pm. Please note photography and video footage may be recorded for promotional purposes. \nCompetitor Entry Fee – £50 (Cash Only) Master Club (Free) \nFree Entry for Spectators accompanying a Competitor \nAll fees should be paid in cash at Registration on the day at the Competition
URL:https://alistairveratkd.com/event/uk-championship/
LOCATION:Wishaw Sports Cntre\, Alexander St\, Wishaw\, ML2 0HQ\, United Kingdom
CATEGORIES:Competitions
END:VEVENT
END:VCALENDAR