BEGIN:VCALENDAR
VERSION:2.0
PRODID:-//Alistair Vera Taekwon-Do - ECPv6.15.20//NONSGML v1.0//EN
CALSCALE:GREGORIAN
METHOD:PUBLISH
X-WR-CALNAME:Alistair Vera Taekwon-Do
X-ORIGINAL-URL:https://alistairveratkd.com
X-WR-CALDESC:Events for Alistair Vera Taekwon-Do
REFRESH-INTERVAL;VALUE=DURATION:PT1H
X-Robots-Tag:noindex
X-PUBLISHED-TTL:PT1H
BEGIN:VTIMEZONE
TZID:UTC
BEGIN:STANDARD
TZOFFSETFROM:+0000
TZOFFSETTO:+0000
TZNAME:UTC
DTSTART:20250101T000000
END:STANDARD
END:VTIMEZONE
BEGIN:VEVENT
DTSTART;TZID=UTC:20260613T133000
DTEND;TZID=UTC:20260613T141500
DTSTAMP:20260423T033537
CREATED:20250613T123918Z
LAST-MODIFIED:20250613T123926Z
UID:588-1781357400-1781360100@alistairveratkd.com
SUMMARY:Carlisle Taekwon-Do Grading 1.30pm-2.15pm
DESCRIPTION:Forms Will Be Handed Out In Class \nThe grading is open to all students who have reached a standard \nenabling them to complete the test requirements. For junior entry\, permission is required from the Parent/Guardian. \nFor entry\, each student must satisfy the following conditions:- \n• Each student must wear their oﬃcial UKTC Taekwon-Do Suit. \n• Each student must pay the required Grading Fee.
URL:https://alistairveratkd.com/event/carlisle-taekwon-do-grading-1-30pm-2-15pm-4/
LOCATION:Trinity Leisure Centre\, Strand Rd\, Carlisle\, CA1 1JB\, United Kingdom
CATEGORIES:Carlisle Grading
END:VEVENT
BEGIN:VEVENT
DTSTART;TZID=UTC:20260613T123000
DTEND;TZID=UTC:20260613T131500
DTSTAMP:20260423T033537
CREATED:20250613T123657Z
LAST-MODIFIED:20250613T123657Z
UID:586-1781353800-1781356500@alistairveratkd.com
SUMMARY:Carlisle Active Tiger Grading 12.30pm-1.15pm
DESCRIPTION:Forms Will Be Handed Out In Class \nThe grading is open to all students who have reached a standard \nenabling them to complete the test requirements. For junior entry\, permission is required from the Parent/Guardian. \nFor entry\, each student must satisfy the following conditions:- \n• Each student must wear their oﬃcial UKTC Taekwon-Do Suit. \n• Each student must pay the required Grading Fee.
URL:https://alistairveratkd.com/event/carlisle-active-tiger-grading-12-30pm-1-15pm-5/
LOCATION:Trinity Leisure Centre\, Strand Rd\, Carlisle\, CA1 1JB\, United Kingdom
CATEGORIES:Carlisle Grading
END:VEVENT
BEGIN:VEVENT
DTSTART;TZID=UTC:20260613T103000
DTEND;TZID=UTC:20260613T111500
DTSTAMP:20260423T033537
CREATED:20250613T123546Z
LAST-MODIFIED:20250613T123546Z
UID:584-1781346600-1781349300@alistairveratkd.com
SUMMARY:Lockerbie Taekwon-Do Grading 10.30am-11.15am
DESCRIPTION:Forms Will Be Handed Out In Class \nThe grading is open to all students who have reached a standard \nenabling them to complete the test requirements. For junior entry\, permission is required from the Parent/Guardian. \nFor entry\, each student must satisfy the following conditions:- \n• Each student must wear their oﬃcial UKTC Taekwon-Do Suit. \n• Each student must pay the required Grading Fee.
URL:https://alistairveratkd.com/event/lockerbie-taekwon-do-grading-10-30am-11-15am-3/
LOCATION:Dryfesdale Church Hall\, Townhead St\, Lockerbie\, DG11 2AF\, United Kingdom
CATEGORIES:Lockerbie Grading
END:VEVENT
BEGIN:VEVENT
DTSTART;TZID=UTC:20260613T093000
DTEND;TZID=UTC:20260613T101500
DTSTAMP:20260423T033537
CREATED:20250613T123422Z
LAST-MODIFIED:20250613T123422Z
UID:582-1781343000-1781345700@alistairveratkd.com
SUMMARY:Lockerbie Active Tiger Grading 9.30am-10.15am
DESCRIPTION:Forms Will Be Handed Out In Class \nThe grading is open to all students who have reached a standard \nenabling them to complete the test requirements. For junior entry\, permission is required from the Parent/Guardian. \nFor entry\, each student must satisfy the following conditions:- \n• Each student must wear their oﬃcial UKTC Taekwon-Do Suit. \n• Each student must pay the required Grading Fee.
URL:https://alistairveratkd.com/event/lockerbie-active-tiger-grading-9-30am-10-15am-3/
LOCATION:Dryfesdale Church Hall\, Townhead St\, Lockerbie\, DG11 2AF\, United Kingdom
CATEGORIES:Lockerbie Grading
END:VEVENT
BEGIN:VEVENT
DTSTART;TZID=UTC:20260516T123000
DTEND;TZID=UTC:20260516T143000
DTSTAMP:20260423T033537
CREATED:20250613T123254Z
LAST-MODIFIED:20260108T091025Z
UID:580-1778934600-1778941800@alistairveratkd.com
SUMMARY:Carlisle Pre-Grading Seminer 12.30pm-2.30pm
DESCRIPTION:Pre-Grading Seminar – Carlisle – February 2026 \nUNITED KINGDOM TAEKWON-DO COUNCIL \nPRE-GRADING SEMINAR WITH GRAND MASTER STEPHEN ROONEY \nAN INVITATION TO ALL STUDENTS\, BEGINNER UP TO BLACK BELT \nDATE: Saturday 14th February 2026 \nVENUE: Carlisle – Trinity Leisure Centre \nTIME: 12.30-2.30pm \nCOST: £25 (Cash Payment on day) \nFree entry to all Master Club members \n\nAll Students\, Yellow Belt & Above must attend Pre-Grading Seminars prior to attending their Grading. \nYellow Belts\, Green Tags\, Green Belts: 1 Pre-Grading Seminar \nBlue Tags\, Blue Belts: 2 Pre-Grading Seminars \nRed Tags\, Red Belts: 3 Pre-Grading Seminars \nThis Pre-Grading Seminar is exclusively open to all UKTC students (Active Tigers and UKTC \nTaekwon-Do) who hold the rank of beginner up to Black Belt. The seminar will involve intensive \npractice of all fundamental exercises and all the patterns from Chon-Ji up to Choong-Moo. \nThe Seminar will also cover 3 Step Sparring\, 2 Step Sparring\, and 1 Step Sparring. \nStudents participating will be assessed during the seminar and advised regarding their \nreadiness for future gradings.
URL:https://alistairveratkd.com/event/carlisle-pre-grading-seminer-12-30pm-2-30pm/
LOCATION:Trinity Leisure Centre\, Strand Rd\, Carlisle\, CA1 1JB\, United Kingdom
CATEGORIES:Pre-Grading and Pattern Seminar
END:VEVENT
BEGIN:VEVENT
DTSTART;TZID=UTC:20260516T093000
DTEND;TZID=UTC:20260516T113000
DTSTAMP:20260423T033537
CREATED:20250613T123128Z
LAST-MODIFIED:20250613T123128Z
UID:578-1778923800-1778931000@alistairveratkd.com
SUMMARY:Lockerbie Pre-Grading Seminar 9.30am-11.30am
DESCRIPTION:PRE-GRADING SEMINAR \nWITH GRAND MASTER STEPHEN ROONEY \nAll Students\, Yellow Belt & Above must attend Pre-Grading Seminars prior to attending their Grading. \n\nYellow Belts\, Green Tags\, Green Belts: 1 Pre-Grading Seminar\nBlue Tags\, Blue Belts: 2 Pre-Grading Seminars\nRed Tags\, Red Belts: 3 Pre-Grading Seminars
URL:https://alistairveratkd.com/event/lockerbie-pre-grading-seminar-9-30am-11-30am-4/
LOCATION:Dryfesdale Church Hall\, Townhead St\, Lockerbie\, DG11 2AF\, United Kingdom
CATEGORIES:Pre-Grading and Pattern Seminar
END:VEVENT
BEGIN:VEVENT
DTSTART;VALUE=DATE:20260419
DTEND;VALUE=DATE:20260420
DTSTAMP:20260423T033537
CREATED:20251122T142738Z
LAST-MODIFIED:20260108T090344Z
UID:714-1776556800-1776643199@alistairveratkd.com
SUMMARY:Scottish Taekwon-Do Championship
DESCRIPTION:Scottish Championship – April 2026 \nScottish Taekwon-Do Championship.  \nThis is a UKTC Taekwon-Do Champions League Event for Juniors & Adults \nDATE: Sunday 19th April 2026 \nVENUE: Wishaw Sports Centre\, Alexander Street\, Wishaw\, ML2 0HQ \n  \nActive Tigers (Green\, Blue\, Red & Black) & White Belt to Green Tags (All Ages): Access to hall from 9.30am \nRegistration 9.30am Height/Weight Check 10am Competition 10.30-1.00pm \nGreen Belt to Black Tags (All Ages): Please do not enter the hall until 1pm \nRegistration 1.00pm Height/Weight Check 1.30pm Competition 2.00-5.00pm \nBlack Belts (All Ages): \nRegistration 5.00 pm Height/Weight Check 5.15pm Competition 5.30-7.00pm \nThis competition is an official UKTC Event and will raise funds for UKTC members representing the UK National Teams. It is \nopen to all Active Tigers (Green\, Blue Stripe\, Red Stripe & Black Stripe) and all UKTC Junior’s (5-17 years) and Adults who \nhold the rank of 10th Kup (White Belt) and above. Competitors will be placed in divisions dependent on height\, weight\, and rank. \nThere will be three categories to enter – Patterns\, Sparring\, and Special Technique (Flying High Kick). \nOnly UKTC brand Safety Equipment (Gloves\, Boots\, Shin & Head Guards) will be allowed in sparring events \nAccess to the competition hall will be from 9.30am. A stall selling sparring equipment\, clothing\, & various training aids will be \nopen from 10am-5.30pm. Please note photography and video footage may be recorded for promotional purposes. \nCompetitor Entry Fee – £50 (Cash Only) Master Club (Free) \nFree Entry for Spectators accompanying a Competitor \nAll fees should be paid in cash at Registration on the day at the Competition
URL:https://alistairveratkd.com/event/scottish-taekwon-do-championship/
LOCATION:Wishaw Sports Cntre\, Alexander St\, Wishaw\, ML2 0HQ\, United Kingdom
CATEGORIES:Competitions
END:VEVENT
END:VCALENDAR